BEGIN:VCALENDAR
VERSION:2.0
PRODID:-//ChamberMaster//Event Calendar 2.0//EN
METHOD:PUBLISH
X-PUBLISHED-TTL:P3D
REFRESH-INTERVAL:P3D
CALSCALE:GREGORIAN
BEGIN:VEVENT
DTSTART:20231215T000000Z
DTEND:20231215T020000Z
X-MICROSOFT-CDO-ALLDAYEVENT:FALSE
SUMMARY:Chamber Awards and Board & Officer Induction
DESCRIPTION:Annual Chamber Awards and Induction of Officers & Board of Directors\n\n\n\nHeavy Hor'd Erves will be served. Each Registration includes 2 drink tickets.\n\n\n\nLimited Seating for This Event!
X-ALT-DESC;FMTTYPE=text/html:Annual Chamber Awards and Induction of Officers &amp\; Board of Directors<br />\n<br />\nHeavy Hor&#39\;d Erves will be served. Each Registration includes 2 drink tickets.<br />\n<br />\nLimited Seating for This Event!
LOCATION:Al Menah Shrine Temple 1604 Elm Hill Pike Nashville\, TN 37210
UID:e.2870.1533
SEQUENCE:3
DTSTAMP:20260419T191634Z
URL:https://business.donelsonhermitagechamber.com/events/details/chamber-awards-and-board-officer-induction-1533
END:VEVENT

END:VCALENDAR
