BEGIN:VCALENDAR
VERSION:2.0
PRODID:-//ChamberMaster//Event Calendar 2.0//EN
METHOD:PUBLISH
X-PUBLISHED-TTL:P3D
REFRESH-INTERVAL:P3D
CALSCALE:GREGORIAN
BEGIN:VEVENT
DTSTART:20230124T233000Z
DTEND:20230125T013000Z
X-MICROSOFT-CDO-ALLDAYEVENT:FALSE
SUMMARY:Chamber After Hours
DESCRIPTION:Join us for our first Chamber After Hours of 2023!  \n\n\n\nKempton of Hermitage will be our host on\n\nJanuary 24th from 5:30pm - 7:30pm\n\nwith light appetizers and libations.\n\n\n\nPlease register for this FREE event so that our host can plan accordingly.
X-ALT-DESC;FMTTYPE=text/html:<div style="text-align: center\;">Join us for our first Chamber After Hours of 2023!&nbsp\;&nbsp\;<br />\n<br />\nKempton of Hermitage will be our host on<br />\nJanuary 24th from 5:30pm - 7:30pm<br />\nwith light appetizers and libations.<br />\n<br />\nPlease register for this FREE event so that our host can plan accordingly.</div>\n
LOCATION:3778 Central Pike Hermitage\, TN 37076
UID:e.2870.2128
SEQUENCE:3
DTSTAMP:20260420T150442Z
URL:https://business.donelsonhermitagechamber.com/events/details/chamber-after-hours-2128
END:VEVENT

END:VCALENDAR
