BEGIN:VCALENDAR
VERSION:2.0
PRODID:-//ChamberMaster//Event Calendar 2.0//EN
METHOD:PUBLISH
X-PUBLISHED-TTL:P3D
REFRESH-INTERVAL:P3D
CALSCALE:GREGORIAN
BEGIN:VEVENT
DTSTART:20201124T230000Z
DTEND:20201125T023000Z
X-MICROSOFT-CDO-ALLDAYEVENT:FALSE
SUMMARY:Canvas & Cocktails at John A's
DESCRIPTION:Canvas and Cocktails is exactly as it sounds!\n\n\n\nCome out to John A's in Music Valley the last Tuesday of each month and paint a masterpiece while enjoying some wine or cocktails. Each event will have a sponsor with signature cocktails. There will be a food menu at the event but food must be ordered before painting starts\, so come early to enjoy food and cocktails.\n\n5:00-6:30 Food and Cocktails\n\n6:30-8:30 Painting your masterpiece\n\n2 Event Cocktails may be redeemed at anytime with tickets.\n\nIncluded with ticket:\n\n\n	Canvas\n	Paint\n	Apron\n	Two Sponsored Event Cocktails (Will be told which ones are included day of event)\n\n\nPlease wear something you don't mind having some paint on it. All the paint is water based so it shouldn?t stain.
X-ALT-DESC;FMTTYPE=text/html:<p style="margin: 0px\; padding: 0px\; color: rgb(111\, 114\, 135)\; font-size: 16px\; line-height: 1.5rem\; font-family: &quot\;Neue Plak&quot\;\, -apple-system\, BlinkMacSystemFont\, Roboto\, &quot\;Helvetica Neue&quot\;\, Helvetica\, Tahoma\, Arial\, sans-serif\; letter-spacing: 0.5px\;"><span style="font-family:arial\;"><span style="font-size:12px\;"><span style="font-size:16px\;"><strong>Canvas and Cocktails is exactly as it sounds!</strong></span><br>\n<br>\nCome out to John A's in Music Valley the last Tuesday of each month&nbsp\;and paint a masterpiece while enjoying some wine or cocktails. Each event will have a sponsor with signature cocktails. There&nbsp\;will be&nbsp\;a food menu at the event but <u>food must be ordered before painting starts</u>\, so come early to enjoy food and cocktails.</span></span></p>\n\n<p style="margin: 0px\; padding: 10px 0px 0px\; color: rgb(111\, 114\, 135)\; font-size: 16px\; line-height: 1.5rem\; font-family: &quot\;Neue Plak&quot\;\, -apple-system\, BlinkMacSystemFont\, Roboto\, &quot\;Helvetica Neue&quot\;\, Helvetica\, Tahoma\, Arial\, sans-serif\; letter-spacing: 0.5px\;"><strong><span style="font-family:arial\;"><span style="font-size:12px\;">5:00-6:30 Food and Cocktails</span></span></strong></p>\n\n<p style="margin: 0px\; padding: 10px 0px 0px\; color: rgb(111\, 114\, 135)\; font-size: 16px\; line-height: 1.5rem\; font-family: &quot\;Neue Plak&quot\;\, -apple-system\, BlinkMacSystemFont\, Roboto\, &quot\;Helvetica Neue&quot\;\, Helvetica\, Tahoma\, Arial\, sans-serif\; letter-spacing: 0.5px\;"><strong><span style="font-family:arial\;"><span style="font-size:12px\;">6:30-8:30 Painting your masterpiece</span></span></strong></p>\n\n<p style="margin: 0px\; padding: 10px 0px 0px\; color: rgb(111\, 114\, 135)\; font-size: 16px\; line-height: 1.5rem\; font-family: &quot\;Neue Plak&quot\;\, -apple-system\, BlinkMacSystemFont\, Roboto\, &quot\;Helvetica Neue&quot\;\, Helvetica\, Tahoma\, Arial\, sans-serif\; letter-spacing: 0.5px\;"><span style="font-family:arial\;"><span style="font-size:12px\;">2 Event Cocktails may be redeemed at anytime with tickets.</span></span></p>\n\n<p style="margin: 0px\; padding: 10px 0px 0px\; color: rgb(111\, 114\, 135)\; font-size: 16px\; line-height: 1.5rem\; font-family: &quot\;Neue Plak&quot\;\, -apple-system\, BlinkMacSystemFont\, Roboto\, &quot\;Helvetica Neue&quot\;\, Helvetica\, Tahoma\, Arial\, sans-serif\; letter-spacing: 0.5px\;"><strong><span style="font-family:arial\;"><span style="font-size:12px\;">Included with ticket:</span></span></strong></p>\n\n<ul>\n	<li style="margin: 0px\; padding: 10px 0px 0px\; color: rgb(111\, 114\, 135)\; font-size: 16px\; line-height: 1.5rem\; font-family: &quot\;Neue Plak&quot\;\, -apple-system\, BlinkMacSystemFont\, Roboto\, &quot\;Helvetica Neue&quot\;\, Helvetica\, Tahoma\, Arial\, sans-serif\; letter-spacing: 0.5px\;"><strong><span style="font-family:arial\;"><span style="font-size:12px\;">Canvas</span></span></strong></li>\n	<li style="margin: 0px\; padding: 10px 0px 0px\; color: rgb(111\, 114\, 135)\; font-size: 16px\; line-height: 1.5rem\; font-family: &quot\;Neue Plak&quot\;\, -apple-system\, BlinkMacSystemFont\, Roboto\, &quot\;Helvetica Neue&quot\;\, Helvetica\, Tahoma\, Arial\, sans-serif\; letter-spacing: 0.5px\;"><strong><span style="font-family:arial\;"><span style="font-size:12px\;">Paint</span></span></strong></li>\n	<li style="margin: 0px\; padding: 10px 0px 0px\; color: rgb(111\, 114\, 135)\; font-size: 16px\; line-height: 1.5rem\; font-family: &quot\;Neue Plak&quot\;\, -apple-system\, BlinkMacSystemFont\, Roboto\, &quot\;Helvetica Neue&quot\;\, Helvetica\, Tahoma\, Arial\, sans-serif\; letter-spacing: 0.5px\;"><strong><span style="font-family:arial\;"><span style="font-size:12px\;">Apron</span></span></strong></li>\n	<li style="margin: 0px\; padding: 10px 0px 0px\; color: rgb(111\, 114\, 135)\; font-size: 16px\; line-height: 1.5rem\; font-family: &quot\;Neue Plak&quot\;\, -apple-system\, BlinkMacSystemFont\, Roboto\, &quot\;Helvetica Neue&quot\;\, Helvetica\, Tahoma\, Arial\, sans-serif\; letter-spacing: 0.5px\;"><strong><span style="font-family:arial\;"><span style="font-size:12px\;">Two Sponsored Event Cocktails (Will be told which ones are included day of event)</span></span></strong></li>\n</ul>\n\n<p style="margin: 0px\; padding: 10px 0px 0px\; color: rgb(111\, 114\, 135)\; font-size: 16px\; line-height: 1.5rem\; font-family: &quot\;Neue Plak&quot\;\, -apple-system\, BlinkMacSystemFont\, Roboto\, &quot\;Helvetica Neue&quot\;\, Helvetica\, Tahoma\, Arial\, sans-serif\; letter-spacing: 0.5px\;"><em><strong><span style="font-family:arial\;"><span style="font-size:12px\;">Please wear something you don't mind having some paint on it. All the paint is water based so it shouldn?t stain.</span></span></strong></em></p>\n
LOCATION:John A's 2421 Music Valley Dr Nashville TN 37214
UID:e.2870.1960
SEQUENCE:3
DTSTAMP:20260420T155518Z
URL:https://business.donelsonhermitagechamber.com/events/details/canvas-cocktails-at-john-a-s-11-24-2020-1960
END:VEVENT

END:VCALENDAR
