BEGIN:VCALENDAR
VERSION:2.0
PRODID:-//ChamberMaster//Event Calendar 2.0//EN
METHOD:PUBLISH
X-PUBLISHED-TTL:P3D
REFRESH-INTERVAL:P3D
CALSCALE:GREGORIAN
BEGIN:VEVENT
DTSTART:20200409T163000Z
DTEND:20200409T180000Z
X-MICROSOFT-CDO-ALLDAYEVENT:FALSE
SUMMARY:CANCELLED - General Membership Meeting
DESCRIPTION:In accordance with Mayor Cooper's "Safer at Home" order\, our Board of Directors has decided to cancel this month's meeting. If you have any questions\, please do not hesitate to contact our office.
X-ALT-DESC;FMTTYPE=text/html:<span style="font-size: 18px\;"><b>In accordance with Mayor Cooper&#39\;s &quot\;Safer at Home&quot\; order\, our Board of Directors has decided to cancel this month&#39\;s meeting. If you have any questions\, please do not hesitate to contact our office.&nbsp\;</b></span><br />\n<br />\n&nbsp\;
LOCATION:Hotel Preston 733 Briley Pkwy Nashville\, TN 37217
UID:e.2870.1489
SEQUENCE:3
DTSTAMP:20260422T220538Z
URL:https://business.donelsonhermitagechamber.com/events/details/cancelled-general-membership-meeting-1489
END:VEVENT

END:VCALENDAR
