BEGIN:VCALENDAR
VERSION:2.0
PRODID:-//ChamberMaster//Event Calendar 2.0//EN
METHOD:PUBLISH
X-PUBLISHED-TTL:P3D
REFRESH-INTERVAL:P3D
CALSCALE:GREGORIAN
BEGIN:VEVENT
DTSTART:20200402T123000Z
DTEND:20200402T133000Z
X-MICROSOFT-CDO-ALLDAYEVENT:FALSE
SUMMARY:CANCELLED - Chamber Board of Directors Monthly Meeting
DESCRIPTION:In accordance with Mayor Cooper's "Safer at Home" order\, our monthly meeting of the Donelson-Hermitage Chamber of Commerce Board of Directors has been cancelled. Please feel free to email our office if you have any questions.
X-ALT-DESC;FMTTYPE=text/html:In accordance with Mayor Cooper&#39\;s &quot\;Safer at Home&quot\; order\, our monthly meeting of the Donelson-Hermitage Chamber of Commerce Board of Directors has been cancelled. Please feel free to email our office if you have any questions.
LOCATION:Wilson Bank & Trust Donelson Branch
UID:e.2870.1354
SEQUENCE:3
DTSTAMP:20260422T221158Z
URL:https://business.donelsonhermitagechamber.com/events/details/cancelled-chamber-board-of-directors-monthly-meeting-1354
END:VEVENT

END:VCALENDAR
