BEGIN:VCALENDAR
VERSION:2.0
PRODID:-//ChamberMaster//Event Calendar 2.0//EN
METHOD:PUBLISH
X-PUBLISHED-TTL:P3D
REFRESH-INTERVAL:P3D
CALSCALE:GREGORIAN
BEGIN:VEVENT
DTSTART:20231024T170000Z
DTEND:20231024T170000Z
X-MICROSOFT-CDO-ALLDAYEVENT:FALSE
SUMMARY:Beckham Complete Health\, PLLC Grand Opening and Ribbon Cutting
DESCRIPTION:Beckham Complete Health\, PLLC Grand Opening and Ribbon Cutting
X-ALT-DESC;FMTTYPE=text/html:Beckham Complete Health\, PLLC Grand Opening and Ribbon Cutting
LOCATION:Beckham Complete Health\, PLLC 5651 Frist Blvd\, Suite 701 Hermitage\, TN 37076
UID:e.2870.2185
SEQUENCE:3
DTSTAMP:20260420T001115Z
URL:https://business.donelsonhermitagechamber.com/events/details/beckham-complete-health-pllc-grand-opening-and-ribbon-cutting-2185
END:VEVENT

END:VCALENDAR
