BEGIN:VCALENDAR
VERSION:2.0
PRODID:-//ChamberMaster//Event Calendar 2.0//EN
METHOD:PUBLISH
X-PUBLISHED-TTL:P3D
REFRESH-INTERVAL:P3D
CALSCALE:GREGORIAN
BEGIN:VEVENT
DTSTART;VALUE=DATE:20201009
DTEND;VALUE=DATE:20201012
TRANSP:TRANSPARENT
X-MICROSOFT-CDO-ALLDAYEVENT:TRUE
SUMMARY:Bavarian Bierhaus Prost Outdoor Biergarten
DESCRIPTION:On the weekend of October 9-11\, 2020\, Bavarian Bierhaus will expand their restaurant into an open-air Biergarten for a celebration of our Nashville community! Co-hosted by East Nashville Beer Works and Yazoo Brewing company\, this weekend will feature local and imported beers\, live music\, your favorite Biergarten foods\, exclusive merchandise and giveaways\, and fun for the whole family.\n\n \n\nSocial distancing and sanitation measures will be taken throughout the weekend\, and we will require face coverings to be worn while walking around the Biergarten to ensure the safety of our guests and staff.
X-ALT-DESC;FMTTYPE=text/html:On the weekend of October 9-11\, 2020\, Bavarian Bierhaus will expand their restaurant into an open-air Biergarten for a celebration of our Nashville community! Co-hosted by East Nashville Beer Works and Yazoo Brewing company\, this weekend will feature local and imported beers\, live music\, your favorite Biergarten foods\, exclusive merchandise and giveaways\, and fun for the whole family.<br />\n&nbsp\;<br />\nSocial distancing and sanitation measures will be taken throughout the weekend\, and we will require face coverings to be worn while walking around the Biergarten to ensure the safety of our guests and staff.
LOCATION:Bavarian Bierhaus Opry Mils 121 Opry Mills Drive Nashville\, TN 37214
UID:e.2870.1977
SEQUENCE:3
DTSTAMP:20260420T110503Z
URL:https://business.donelsonhermitagechamber.com/events/details/bavarian-bierhaus-prost-outdoor-biergarten-1977
END:VEVENT

END:VCALENDAR
