BEGIN:VCALENDAR
VERSION:2.0
PRODID:-//ChamberMaster//Event Calendar 2.0//EN
METHOD:PUBLISH
X-PUBLISHED-TTL:P3D
REFRESH-INTERVAL:P3D
CALSCALE:GREGORIAN
BEGIN:VEVENT
DTSTART:20230426T130000Z
DTEND:20230426T140000Z
X-MICROSOFT-CDO-ALLDAYEVENT:FALSE
SUMMARY:Aviation Transportation & Infrastructure
DESCRIPTION:TOPIC: Nashville Department of Transportation Donelson Hermitage Project Updates SPEAKER: Diana Alarcon Department of Transportation and Multimodal Infrastructure for Metropolitan Nashville Davidson County
X-ALT-DESC;FMTTYPE=text/html:TOPIC: Nashville Department of Transportation Donelson Hermitage Project Updates SPEAKER: Diana Alarcon Department of Transportation and Multimodal Infrastructure for Metropolitan Nashville Davidson County
LOCATION:Holladay Properties 2710 Old Lebanon Pike\, Suite 5 Nashville\, TN 37214
UID:e.2870.2133
SEQUENCE:3
DTSTAMP:20260420T103754Z
URL:https://business.donelsonhermitagechamber.com/events/details/aviation-transportation-infrastructure-2133
END:VEVENT

END:VCALENDAR
