BEGIN:VCALENDAR
VERSION:2.0
PRODID:-//ChamberMaster//Event Calendar 2.0//EN
METHOD:PUBLISH
X-PUBLISHED-TTL:P3D
REFRESH-INTERVAL:P3D
CALSCALE:GREGORIAN
BEGIN:VEVENT
DTSTART:20211110T133000Z
DTEND:20211110T143000Z
X-MICROSOFT-CDO-ALLDAYEVENT:FALSE
SUMMARY:ATI Committee Meeting
DESCRIPTION:ATI Committee Meeting\n\nWednesday November 10th\n\n7:30 - 8:30 a.m.\n\n\n\nJoin the Aviation Transportation Infrastructure (ATI) Committee virtually on Wednesday November 10th. \n\n\n\nThe ATI Committee's goal is to develop and strengthen relationships and information sharing between government officials\, local businesses\, and our neighborhood for the best interests of our community.
X-ALT-DESC;FMTTYPE=text/html:&nbsp\;\n<div style="text-align: center\;"><span style="font-size:18px\;"><strong>ATI Committee Meeting</strong></span><br />\n<strong><span style="font-size:14px\;">Wednesday November 10th<br />\n7:30 - 8:30 a.m.</span></strong><br />\n<br />\nJoin the Aviation Transportation Infrastructure (ATI) Committee virtually on Wednesday November 10th.&nbsp\;<br />\n<br />\nThe ATI Committee&#39\;s goal is to develop and strengthen relationships and information sharing between government officials\, local businesses\, and our neighborhood for the best interests of our community.</div>\n
LOCATION:Virtual
UID:e.2870.2005
SEQUENCE:3
DTSTAMP:20260421T153700Z
URL:https://business.donelsonhermitagechamber.com/events/details/ati-committee-meeting-2005
END:VEVENT

END:VCALENDAR
