BEGIN:VCALENDAR
VERSION:2.0
PRODID:-//ChamberMaster//Event Calendar 2.0//EN
METHOD:PUBLISH
X-PUBLISHED-TTL:P3D
REFRESH-INTERVAL:P3D
CALSCALE:GREGORIAN
BEGIN:VEVENT
DTSTART:20231025T130000Z
DTEND:20231025T140000Z
X-MICROSOFT-CDO-ALLDAYEVENT:FALSE
SUMMARY:ATI (Aviation Transportation and Infrastructure) Meeting
DESCRIPTION:ATI (Aviation\, Transportation\, and Infrastructure) Meeting
X-ALT-DESC;FMTTYPE=text/html:ATI (Aviation\, Transportation\, and Infrastructure) Meeting
LOCATION:Holladay Properties - Nashville Office 2710 Old Lebanon Rd Ste 5 Nashville\, TN 37214
UID:e.2870.2179
SEQUENCE:3
DTSTAMP:20260420T000449Z
URL:https://business.donelsonhermitagechamber.com/events/details/ati-aviation-transportation-and-infrastructure-meeting-2179
END:VEVENT

END:VCALENDAR
